Workbook
Name BLA: Tabelle3!$A$1:$A$2
Name Bundesland: Tabelle3!$C$1:$C$27
Name Geschlecht: Tabelle3!$B$1:$B$2
Name Nation: Tabelle3!$D$1:$D$39

Sheet Teilnehmer
A2: Wettbewerbsgruppe | E2: Freiwillige Feuerwehren | G2: Wertung | I2: Hess. FLA Bronze
E3: Frauengruppe | I3: Hess. FLA Silber
A4: Wertungsklasse | E4: A (ohne Alterspunkte) | I4: Hess. FLA Gold
E5: B (mit Alterspunkten)
A6: Startformation | E6: Gruppe
E7: Staffel
D8: Zutreffendes bitte deutlich ankreuzen!
A11: 25. Hessischer Landespokalwettbewerb mit Abnahme des Hessischen FLA CTIF
A13: Wettbewerbsgruppe
A14: Ort der Feuerwehr
A15: Bundesland
A16: Nation
A18: Feuerwehrwettbewerb | D18: am 20.09.2025 | F18: in | G18: Hasselroth - Gondsroth
A20: Nr. | B20: Name | D20: Vorname | F20: Geb.Datum | G20: Alter | H20: Staffellaufteilnehmer | J20: HFLA Ja/Nein | K20: Geschlecht m / w
A21: 1
A22: 2
A23: 3
A24: 4
A25: 5
A26: 6
A27: 7
A28: 8
A29: 9
A30: Reserve
F31: Gesamtalter *) | G31: =SUM(G21:G29) -> 0
A32: (*)Hinweis: Gesamtalter wird vom Berechnungsausschuss B ermittelt, der hier angegebene Wert ist nicht verbindlich!
A34: Der unterzeichnende Leiter der Feuerwehr und der Gruppenführer bestätigen mit ihrer Unterschrift, dass sie die Wettbewerbsordnung des Deutschen Feuerwehrverbandes in der jeweils gültigen Fassung zur Kenntnis genommen haben und akzeptieren. Entsprechend der EU-Datenschutzgrundverordung - DSGV - erklärt sich die Gruppe mit der Speicherung von personenbezogenen Daten wie: Name, Vorname, Geburtsdatum, Feuerwehr und erzielten Ergebnissen einverstanden.
C36: , den | I36: , den
A37: (Ort) | D37: (Datum) | G37: (Ort) | J37: (Datum)
A40: Leiter der Feuerwehr (Name, Vorname) | G40: Gruppenführer der Teilnehmergruppe (Name, Vorname)
A42: Unterschrift | G42: Unterschrift

Sheet Tabelle1
A1: Nachname | B1: Vorname | C1: Geburtsdatum | D1: Geschlecht | E1: Feuerwehr | F1: Bundesland | G1: Nation
A2: =Teilnehmer!B21 -> 0 | B2: =Teilnehmer!D21 -> 0 | C2: =IF(LEN(Teilnehmer!F21>0),Teilnehmer!F21,) -> 0 | D2: =Teilnehmer!K21 -> 0 | E2: =Teilnehmer!$D$14 -> 0 | F2: =Teilnehmer!$D$15 -> 0 | G2: =Teilnehmer!$D$16 -> 0
A3: =Teilnehmer!B22 -> 0 | B3: =Teilnehmer!D22 -> 0 | C3: =IF(LEN(Teilnehmer!F22>0),Teilnehmer!F22,) -> 0 | D3: =Teilnehmer!K22 -> 0 | E3: =Teilnehmer!$D$14 -> 0 | F3: =Teilnehmer!$D$15 -> 0 | G3: =Teilnehmer!$D$16 -> 0
A4: =Teilnehmer!B23 -> 0 | B4: =Teilnehmer!D23 -> 0 | C4: =IF(LEN(Teilnehmer!F23>0),Teilnehmer!F23,) -> 0 | D4: =Teilnehmer!K23 -> 0 | E4: =Teilnehmer!$D$14 -> 0 | F4: =Teilnehmer!$D$15 -> 0 | G4: =Teilnehmer!$D$16 -> 0
A5: =Teilnehmer!B24 -> 0 | B5: =Teilnehmer!D24 -> 0 | C5: =IF(LEN(Teilnehmer!F24>0),Teilnehmer!F24,) -> 0 | D5: =Teilnehmer!K24 -> 0 | E5: =Teilnehmer!$D$14 -> 0 | F5: =Teilnehmer!$D$15 -> 0 | G5: =Teilnehmer!$D$16 -> 0
A6: =Teilnehmer!B25 -> 0 | B6: =Teilnehmer!D25 -> 0 | C6: =IF(LEN(Teilnehmer!F25>0),Teilnehmer!F25,) -> 0 | D6: =Teilnehmer!K25 -> 0 | E6: =Teilnehmer!$D$14 -> 0 | F6: =Teilnehmer!$D$15 -> 0 | G6: =Teilnehmer!$D$16 -> 0
A7: =Teilnehmer!B26 -> 0 | B7: =Teilnehmer!D26 -> 0 | C7: =IF(LEN(Teilnehmer!F26>0),Teilnehmer!F26,) -> 0 | D7: =Teilnehmer!K26 -> 0 | E7: =Teilnehmer!$D$14 -> 0 | F7: =Teilnehmer!$D$15 -> 0 | G7: =Teilnehmer!$D$16 -> 0
A8: =Teilnehmer!B27 -> 0 | B8: =Teilnehmer!D27 -> 0 | C8: =IF(LEN(Teilnehmer!F27>0),Teilnehmer!F27,) -> 0 | D8: =Teilnehmer!K27 -> 0 | E8: =Teilnehmer!$D$14 -> 0 | F8: =Teilnehmer!$D$15 -> 0 | G8: =Teilnehmer!$D$16 -> 0
A9: =Teilnehmer!B28 -> 0 | B9: =Teilnehmer!D28 -> 0 | C9: =IF(LEN(Teilnehmer!F28>0),Teilnehmer!F28,) -> 0 | D9: =Teilnehmer!K28 -> 0 | E9: =Teilnehmer!$D$14 -> 0 | F9: =Teilnehmer!$D$15 -> 0 | G9: =Teilnehmer!$D$16 -> 0
A10: =Teilnehmer!B29 -> 0 | B10: =Teilnehmer!D29 -> 0 | C10: =IF(LEN(Teilnehmer!F29>0),Teilnehmer!F29,) -> 0 | D10: =Teilnehmer!K29 -> 0 | E10: =Teilnehmer!$D$14 -> 0 | F10: =Teilnehmer!$D$15 -> 0 | G10: =Teilnehmer!$D$16 -> 0
A11: =Teilnehmer!B30 -> 0 | B11: =Teilnehmer!D30 -> 0 | C11: =IF(LEN(Teilnehmer!F30>0),Teilnehmer!F30,) -> 0 | D11: =Teilnehmer!K30 -> 0 | E11: =Teilnehmer!$D$14 -> 0 | F11: =Teilnehmer!$D$15 -> 0 | G11: =Teilnehmer!$D$16 -> 0

Sheet Tabelle3
A1: Ja | B1: m | C1: SONSTIGES | D1: SONSTIGES
A2: Nein | B2: w | C2: Baden-Württemberg | D2: Deutschland
C3: Bayern | D3: Albanien
C4: Brandenburg | D4: Belgien
C5: Bremen | D5: Bosnien-Herzegowina
C6: Burgenland | D6: Bulgarien
C7: DFV | D7: Dänemark
C8: Hamburg | D8: Deutschland
C9: Hessen | D9: Estland
C10: Kärnten | D10: Finnland
C11: Mecklenburg-Vorpommern | D11: Frankreich
C12: Niederösterreich | D12: Griechenland
C13: Niedersachsen | D13: Großbritannien
C14: Nordrhein-Westfalen | D14: Italien
... C27: Vorarlberg | D27: Rumänien
D28: Rußland
D29: Schweden
D30: Schweiz
D31: Serbien
D32: Slowakei
D33: Slowenien
D34: Spanien
D35: Tschechien
D36: Türkei
D37: Ukraine
D38: Ungarn
D39: Weißrußland
